BEGIN:VCALENDAR
VERSION:2.0
PRODID:-//Toronto Dance Spot - ECPv6.15.20//NONSGML v1.0//EN
CALSCALE:GREGORIAN
METHOD:PUBLISH
X-WR-CALNAME:Toronto Dance Spot
X-ORIGINAL-URL:https://torontodancespot.com
X-WR-CALDESC:Events for Toronto Dance Spot
REFRESH-INTERVAL;VALUE=DURATION:PT1H
X-Robots-Tag:noindex
X-PUBLISHED-TTL:PT1H
BEGIN:VTIMEZONE
TZID:America/Toronto
BEGIN:DAYLIGHT
TZOFFSETFROM:-0500
TZOFFSETTO:-0400
TZNAME:EDT
DTSTART:20240310T070000
END:DAYLIGHT
BEGIN:STANDARD
TZOFFSETFROM:-0400
TZOFFSETTO:-0500
TZNAME:EST
DTSTART:20241103T060000
END:STANDARD
BEGIN:DAYLIGHT
TZOFFSETFROM:-0500
TZOFFSETTO:-0400
TZNAME:EDT
DTSTART:20250309T070000
END:DAYLIGHT
BEGIN:STANDARD
TZOFFSETFROM:-0400
TZOFFSETTO:-0500
TZNAME:EST
DTSTART:20251102T060000
END:STANDARD
BEGIN:DAYLIGHT
TZOFFSETFROM:-0500
TZOFFSETTO:-0400
TZNAME:EDT
DTSTART:20260308T070000
END:DAYLIGHT
BEGIN:STANDARD
TZOFFSETFROM:-0400
TZOFFSETTO:-0500
TZNAME:EST
DTSTART:20261101T060000
END:STANDARD
END:VTIMEZONE
BEGIN:VEVENT
DTSTART;TZID=America/Toronto:20250606T200000
DTEND;TZID=America/Toronto:20250606T220000
DTSTAMP:20260419T111435
CREATED:20250522T190819Z
LAST-MODIFIED:20250522T190819Z
UID:727-1749240000-1749247200@torontodancespot.com
SUMMARY:Wedding Dance Crash Course - Wedding Group Lessons
DESCRIPTION:Wedding Dance Crash Course: Group Class Edition \nFriday\, June 6th – limited availability – 8 spots left \n\nWho is it for? If you have limited time before your wedding\, it is definitely for you.\nFormat: 1 session – 2 hours\nTime: from 8:00 pm – 10:00 pm.\nWhere? St. Olave’s Anglican Church\, 360 Windermere Ave\, Toronto.\nPrice: $150+hst / couple\nWhat will I learn?: – basic to intermediate freestyle moves and transitions\, freestyle dancing to a variety of music styles\, basic dips. Program designed to prepare for dancing at any social events and to form a solid base for your first dance choreography.\n\nWhy This Wedding Dance Crash Course?\nGet comfortable on the dance floor in shorter time then a regular. \nIf you took private classes\, that is exactly what you would learn in first two hours anyway. Here you have them back to back\, and the time saved on warmups and reviews allows us to add extra moves and add dips. \nGet all-around basics – best intro for those intending to dance all night to all kinds of music. \nThis crash course will teach you how to feel confident and have fun with others by learning how to move with comfort\, how to feel the rhythm\, how to lead and follow elements like turns\, passes and other basic patterns\, how to highlight the music with intermediate level elements\, how to dip and be dipped safely. \nCrash Course:\nThe Crash Courses are scheduled on selected Fridays from 8pm to 10pm - next Crash Course date: \n2 hour group lessons\n$150 + hst Per Couple \nRegister here \nChoose the mix of Private Classes and Group Instruction that best suits your timeline and budget\n\nThere are three components to a successful First Dance: Basic skills\, Highlights\, Staging and Choreography. \nYou can decide to do Basics and Highlights in Private Classes or you can cover them in the Group Classes. \nStaging will be discussed with you in an over the phone interview. \nChoreography - as in decisions on which element fits which part of your tune and connecting one to the other is done in Private Classes. \n\n\nFB Event
URL:https://torontodancespot.com/event/wedding-dance-crash-course-wedding-group-lessons/
LOCATION:St. Olave’s Anglican Church\, 360 Windermere Ave\, Toronto
ATTACH;FMTTYPE=image/png:https://torontodancespot.com/wp-content/uploads/2025/05/First-wedding-June-6Post-Post-na-Facebooka.png
ORGANIZER;CN="Toronto Dance Spot":MAILTO:info@torontodancespot.com
END:VEVENT
BEGIN:VEVENT
DTSTART;TZID=America/Toronto:20250616T200000
DTEND;TZID=America/Toronto:20250908T204500
DTSTAMP:20260419T111435
CREATED:20250613T163929Z
LAST-MODIFIED:20250613T163929Z
UID:742-1750104000-1757364300@torontodancespot.com
SUMMARY:Toronto Rally WEST CAOST SWING - FlashMob
DESCRIPTION: INTERNATIONAL RALLY WEST COAST SWING 2025 – TORONTO\n\n Start date: June 16th | Toronto Dance Spot\n\n Once again\, we’re joining the official worldwide Flashmob of West Coast Swing 2025 – choreographed by Olivier & Virginie Massart (Lyon\, France). This choreography is performed simultaneously in cities across the globe during the first weeks of September.\n\n Whether you're new to dance or already love WCS – YOU can be part of it! No partner or experience needed – we’ll teach you everything step by step.\n\n We’ll train together in our beautiful\, spacious\, and fully air-conditioned 2000+ sq ft hall.\nThen in September\, we’ll surprise Toronto with a flash-mob performances in multiple downtown locations!\n\nHere’s the link to the whole tune danced in its entirety:\nhttps://www.youtube.com/watch?v=LLI7BwkEAvo\n\nAnd here’s the link to the choreography breakdown:\nhttps://www.youtube.com/watch?v=HcUTgv89nyg\n\n When: Mondays\, 8:00–8:45pm\nDuration: 12 classes - June 16th to Sept 8th (Sept 1st is a holiday) - performance day: Sat Sept 13\n\n Price per 12 classes per person: $180 or 2x $95 (plus HST) Price per 12 classes per couple: $300 or 2x $155 (plus HST)\n\n Where: Parish Hall @ St. Olave’s Anglican Church360 Windermere Ave (Bloor & Windermere)\n\n Flashback to one of the earlier editions:\nhttps://www.youtube.com/watch?v=DQ8UvULbN2U&t=48s\n\n REGISTER NOW: https://torontodancespot.com/dance-class-registration/\n\n Questions? Call/text: 647-937-9378\n\nRally West Coast Swing - FlashMob - FB events\n torontodancespot.com\nWest Coast Swing dance classes in Toronto
URL:https://torontodancespot.com/event/toronto-rally-west-caost-swing-flashmob/
LOCATION:St. Olave’s Anglican Church\, 360 Windermere Ave\, Toronto
ATTACH;FMTTYPE=image/png:https://torontodancespot.com/wp-content/uploads/2025/06/FlasMob-2025.png
ORGANIZER;CN="Toronto Dance Spot":MAILTO:info@torontodancespot.com
END:VEVENT
BEGIN:VEVENT
DTSTART;TZID=America/Toronto:20250627T200000
DTEND;TZID=America/Toronto:20250627T220000
DTSTAMP:20260419T111435
CREATED:20250613T190022Z
LAST-MODIFIED:20250613T190022Z
UID:745-1751054400-1751061600@torontodancespot.com
SUMMARY:Wedding Dance Group Class - Wedding Dance Crash Course
DESCRIPTION:Wedding Dance Group Class  - Wedding Dance Crash Course \nFriday\, June 27th – limited availability – 10 spots left \n\nWho is it for? If you have limited time before your wedding\, it is definitely for you.\nFormat: 1 session – 2 hours\nTime: from 8:00 pm – 10:00 pm.\nWhere? St. Olave’s Anglican Church\, 360 Windermere Ave\, Toronto.\nPrice: $150+hst / couple\nWhat will I learn?: – basic to intermediate freestyle moves and transitions\, freestyle dancing to a variety of music styles\, basic dips. Program designed to prepare for dancing at any social events and to form a solid base for your first dance choreography.\n\nWhy This Wedding Dance Group Class?\nGet comfortable on the dance floor in shorter time then a regular. \nIf you took private classes\, that is exactly what you would learn in first two hours anyway. Here you have them back to back\, and the time saved on warmups and reviews allows us to add extra moves and add dips. \nGet all-around basics – best intro for those intending to dance all night to all kinds of music. \nThis crash course will teach you how to feel confident and have fun with others by learning how to move with comfort\, how to feel the rhythm\, how to lead and follow elements like turns\, passes and other basic patterns\, how to highlight the music with intermediate level elements\, how to dip and be dipped safely. \nCrash Course:\nThe Crash Courses are scheduled on selected Fridays from 8pm to 10pm - next Crash Course date: Friday\, June 27th  \n2 hour group lessons\n$150 + hst Per Couple \nRegister here \nChoose the mix of Private Classes and Group Instruction that best suits your timeline and budget\n\nThere are three components to a successful First Dance: Basic skills\, Highlights\, Staging and Choreography. \nYou can decide to do Basics and Highlights in Private Classes or you can cover them in the Group Classes. \nStaging will be discussed with you in an over the phone interview. \nChoreography - as in decisions on which element fits which part of your tune and connecting one to the other is done in Private Classes. \n\n\nFB Event
URL:https://torontodancespot.com/event/wedding-dance-group-class-wedding-dance-crash-course/
LOCATION:St. Olave’s Anglican Church\, 360 Windermere Ave\, Toronto
ATTACH;FMTTYPE=image/png:https://torontodancespot.com/wp-content/uploads/2025/06/Crash-Course-June-27-Post-na-Instagram-45.png
ORGANIZER;CN="Toronto Dance Spot":MAILTO:info@torontodancespot.com
END:VEVENT
END:VCALENDAR