BEGIN:VCALENDAR
VERSION:2.0
PRODID:-//Toronto Dance Spot - ECPv6.15.20//NONSGML v1.0//EN
CALSCALE:GREGORIAN
METHOD:PUBLISH
X-WR-CALNAME:Toronto Dance Spot
X-ORIGINAL-URL:https://torontodancespot.com
X-WR-CALDESC:Events for Toronto Dance Spot
REFRESH-INTERVAL;VALUE=DURATION:PT1H
X-Robots-Tag:noindex
X-PUBLISHED-TTL:PT1H
BEGIN:VTIMEZONE
TZID:America/Toronto
BEGIN:DAYLIGHT
TZOFFSETFROM:-0500
TZOFFSETTO:-0400
TZNAME:EDT
DTSTART:20240310T070000
END:DAYLIGHT
BEGIN:STANDARD
TZOFFSETFROM:-0400
TZOFFSETTO:-0500
TZNAME:EST
DTSTART:20241103T060000
END:STANDARD
BEGIN:DAYLIGHT
TZOFFSETFROM:-0500
TZOFFSETTO:-0400
TZNAME:EDT
DTSTART:20250309T070000
END:DAYLIGHT
BEGIN:STANDARD
TZOFFSETFROM:-0400
TZOFFSETTO:-0500
TZNAME:EST
DTSTART:20251102T060000
END:STANDARD
BEGIN:DAYLIGHT
TZOFFSETFROM:-0500
TZOFFSETTO:-0400
TZNAME:EDT
DTSTART:20260308T070000
END:DAYLIGHT
BEGIN:STANDARD
TZOFFSETFROM:-0400
TZOFFSETTO:-0500
TZNAME:EST
DTSTART:20261101T060000
END:STANDARD
END:VTIMEZONE
BEGIN:VEVENT
DTSTART;TZID=America/Toronto:20250329T083000
DTEND;TZID=America/Toronto:20250330T003000
DTSTAMP:20260419T153530
CREATED:20250306T010908Z
LAST-MODIFIED:20250306T011102Z
UID:656-1743237000-1743294600@torontodancespot.com
SUMMARY:Milonga in Toronto Bloor West Village. Milonga El Gato
DESCRIPTION:Milonga in Toronto – Milonga El Gato \nJoin us for Milonga El Gato in Bloor West Village\, Toronto. Dance to traditional De Salon Tango\, Tango Vals\, and Milonga in 3-tune tandas\, plus a few tandas with alternative music for Tango Nuevo. \n✅ Beginner-friendly✅ 2000 sq. ft. hardwood dance floor✅ Fully air-conditioned with high-quality sound \nMilonga in Toronto:\nSaturday\, March 29th\, 2025\n8:30pm – 0:30am – Milonga\n\nMusic by DJ Adam3 tune tandas.\n$20\nTea\, coffee\, as well as sweet and savory snacks provided.\n\nLocation:Bloor West VillageParish Hall of St Olave’s Anglican Church360 Windermere Ave. corner of Ostend Ave.50m south of Bloor St. W.4 min walk from Jane TTC\n\nA Milonga is a social dance event where Tango enthusiasts come together to dance and connect.\n\nArgentine Tango Classes at Toronto Dance Spot
URL:https://torontodancespot.com/event/milonga-in-toronto-bloor-west-village-milonga-el-gato/
LOCATION:St. Olave’s Anglican Church\, 360 Windermere Ave\, Toronto
ATTACH;FMTTYPE=image/png:https://torontodancespot.com/wp-content/uploads/2025/03/El-gato-2025strona-2048-x-1549-px.png
ORGANIZER;CN="Toronto Dance Spot":MAILTO:info@torontodancespot.com
END:VEVENT
END:VCALENDAR