BEGIN:VCALENDAR
VERSION:2.0
PRODID:-//Toronto Dance Spot - ECPv6.15.20//NONSGML v1.0//EN
CALSCALE:GREGORIAN
METHOD:PUBLISH
X-WR-CALNAME:Toronto Dance Spot
X-ORIGINAL-URL:https://torontodancespot.com
X-WR-CALDESC:Events for Toronto Dance Spot
REFRESH-INTERVAL;VALUE=DURATION:PT1H
X-Robots-Tag:noindex
X-PUBLISHED-TTL:PT1H
BEGIN:VTIMEZONE
TZID:America/Toronto
BEGIN:DAYLIGHT
TZOFFSETFROM:-0500
TZOFFSETTO:-0400
TZNAME:EDT
DTSTART:20240310T070000
END:DAYLIGHT
BEGIN:STANDARD
TZOFFSETFROM:-0400
TZOFFSETTO:-0500
TZNAME:EST
DTSTART:20241103T060000
END:STANDARD
BEGIN:DAYLIGHT
TZOFFSETFROM:-0500
TZOFFSETTO:-0400
TZNAME:EDT
DTSTART:20250309T070000
END:DAYLIGHT
BEGIN:STANDARD
TZOFFSETFROM:-0400
TZOFFSETTO:-0500
TZNAME:EST
DTSTART:20251102T060000
END:STANDARD
BEGIN:DAYLIGHT
TZOFFSETFROM:-0500
TZOFFSETTO:-0400
TZNAME:EDT
DTSTART:20260308T070000
END:DAYLIGHT
BEGIN:STANDARD
TZOFFSETFROM:-0400
TZOFFSETTO:-0500
TZNAME:EST
DTSTART:20261101T060000
END:STANDARD
END:VTIMEZONE
BEGIN:VEVENT
DTSTART;TZID=America/Toronto:20250307T200000
DTEND;TZID=America/Toronto:20250307T233000
DTSTAMP:20260419T170318
CREATED:20250217T201742Z
LAST-MODIFIED:20250307T205459Z
UID:641-1741377600-1741390200@torontodancespot.com
SUMMARY:Friday West Coast Swing Social with a Lesson! | March 7th\, 2025 -CANCELED
DESCRIPTION:Tonight Friday West Coast Swing practice - CANCELED \nWe are very sorry\, with a heavy heart we have to cancel tonight's West Coast Swing Practica event. Adam is running a fever - looks like the flu made other plans for us for tonight I’m afraid. Stay healthy\, and we will see you at our next practice - first Friday of a month - April 4th! \n\n\nFriday West Coast Swing Social with a Lesson!\n\nLesson + Social: 8:00 pm - 11:30 pm - $25 per person  / $40 per coupleSocial: 9:00 pm - 11:30 pm - $10 per person\n\nWest Coast Swing Social Location:Bloor West VillageParish Hall of St Olave’s Anglican Church360 Windermere Ave. corner of Ostend Ave.\n\nWhat Sets Us Apart: Excellent 2200 sqf hardwood floor Superb sound system Free parking for 20+ cars Only a 3-minute walk to the subway station (Jane TTC)\n\nDon't miss out on this fun and friendly event! Come for the lesson\, stay for the social and dance the night away! \n\nWest Coast Swing\nWest Coast Swing is a captivating partner dance celebrated for its dynamic\, fluid movements and adaptability to a wide range of musical styles\, including blues\, jazz\, R&B\, and contemporary pop. This dance form\, which originated in the United States\, is distinguished by its improvisational nature\, enabling dancers to showcase their individuality and creativity.\n\nUnlike other variations of swing dancing\, WCS is typically executed in a linear "slot\," creating a visually striking performance that highlights the dancers' connection and synchronization. The emphasis on smooth lead-and-follow techniques fosters a deep partnership\, allowing for a harmonious blend of traditional elements with modern influences\, making it a favorite among dance enthusiasts seeking both challenge and enjoyment.\n\nWest Coast Swing socials\n\nWCS socials hold a special significance as they foster connections among people through the joy of dance\, transcending barriers of age\, skill level\, and experience. Their welcoming nature ensures that everyone\, from novices to seasoned dancers\, can find their rhythm and enjoy the experience. The true delight of West Coast Swing lies in its adaptability and the freedom it offers for self-expression; each dancer can uniquely interpret the music\, making every performance a personal statement. This dance style thrives on a diverse range of musical genres\, from soulful blues to upbeat contemporary pop\, ensuring that the experience remains vibrant and engaging.\n\nFurthermore\, WCS socials provide an excellent platform for individuals to hone their dance skills in a laid-back atmosphere\, forge new friendships\, and cultivate a strong sense of community. Ultimately\, these gatherings are not merely about dancing; they represent an opportunity to relax\, enjoy oneself\, and create lasting memories amidst the lively beats\n\nJoin the Best WCS Lessons in Toronto\n\nFB EVENT
URL:https://torontodancespot.com/event/west-coast-swing/
LOCATION:St. Olave’s Anglican Church\, 360 Windermere Ave\, Toronto
ATTACH;FMTTYPE=image/png:https://torontodancespot.com/wp-content/uploads/2025/02/ten-6.png
ORGANIZER;CN="Toronto Dance Spot":MAILTO:info@torontodancespot.com
END:VEVENT
END:VCALENDAR