BEGIN:VCALENDAR
VERSION:2.0
PRODID:-//Toronto Dance Spot - ECPv6.15.20//NONSGML v1.0//EN
CALSCALE:GREGORIAN
METHOD:PUBLISH
X-WR-CALNAME:Toronto Dance Spot
X-ORIGINAL-URL:https://torontodancespot.com
X-WR-CALDESC:Events for Toronto Dance Spot
REFRESH-INTERVAL;VALUE=DURATION:PT1H
X-Robots-Tag:noindex
X-PUBLISHED-TTL:PT1H
BEGIN:VTIMEZONE
TZID:America/Toronto
BEGIN:DAYLIGHT
TZOFFSETFROM:-0500
TZOFFSETTO:-0400
TZNAME:EDT
DTSTART:20240310T070000
END:DAYLIGHT
BEGIN:STANDARD
TZOFFSETFROM:-0400
TZOFFSETTO:-0500
TZNAME:EST
DTSTART:20241103T060000
END:STANDARD
BEGIN:DAYLIGHT
TZOFFSETFROM:-0500
TZOFFSETTO:-0400
TZNAME:EDT
DTSTART:20250309T070000
END:DAYLIGHT
BEGIN:STANDARD
TZOFFSETFROM:-0400
TZOFFSETTO:-0500
TZNAME:EST
DTSTART:20251102T060000
END:STANDARD
BEGIN:DAYLIGHT
TZOFFSETFROM:-0500
TZOFFSETTO:-0400
TZNAME:EDT
DTSTART:20260308T070000
END:DAYLIGHT
BEGIN:STANDARD
TZOFFSETFROM:-0400
TZOFFSETTO:-0500
TZNAME:EST
DTSTART:20261101T060000
END:STANDARD
END:VTIMEZONE
BEGIN:VEVENT
DTSTART;TZID=America/Toronto:20250222T203000
DTEND;TZID=America/Toronto:20250223T003000
DTSTAMP:20260419T184007
CREATED:20250127T193841Z
LAST-MODIFIED:20250218T195445Z
UID:622-1740256200-1740270600@torontodancespot.com
SUMMARY:Milonga El Gato in Toronto Bloor West Village
DESCRIPTION:Milonga El Gato in Toronto Bloor West Village \nStep into an evening filled with the rhythm and passion of Argentine Tango. \nEnjoy dancing to traditional De Salon Tango\, Tango Vals\, and Tango Milongas in 3-tune tandas\, along with a few tandas featuring alternative music\, perfect for Tango Nuevo. \nBeginner-friendly\, fully air-conditioned\, and offering 2000 square feet of hardwood floors with high-quality sound equipment. \nA Milonga is a social dance event where you can dress up and immerse yourself in the enchanting world of Tango\, sharing the dance floor with fellow enthusiasts who share your love for what was once known as the 'Forbidden Dance.' \n\nMilonga El Gato in Toronto:\nSaturday\, February 22nd\, 2025\n8:30pm – 0:30am – Milonga\n\nMusic by DJ Adam3 tune tandas.\n$20\nTea\, coffee\, as well as sweet and savory snacks provided.\n\nLocation:Bloor West VillageParish Hall of St Olave’s Anglican Church360 Windermere Ave. corner of Ostend Ave.50m south of Bloor St. W.4 min walk from Jane TTC
URL:https://torontodancespot.com/event/milonga_el_gato_in_toronto_-bloor_west_village/
LOCATION:St. Olave’s Anglican Church\, 360 Windermere Ave\, Toronto
ATTACH;FMTTYPE=image/png:https://torontodancespot.com/wp-content/uploads/2025/01/El-gato-2025strona-2048-x-1549-px.png
ORGANIZER;CN="Toronto Dance Spot":MAILTO:info@torontodancespot.com
END:VEVENT
END:VCALENDAR