BEGIN:VCALENDAR
VERSION:2.0
PRODID:-//Toronto Dance Spot - ECPv6.15.20//NONSGML v1.0//EN
CALSCALE:GREGORIAN
METHOD:PUBLISH
X-ORIGINAL-URL:https://torontodancespot.com
X-WR-CALDESC:Events for Toronto Dance Spot
REFRESH-INTERVAL;VALUE=DURATION:PT1H
X-Robots-Tag:noindex
X-PUBLISHED-TTL:PT1H
BEGIN:VTIMEZONE
TZID:America/Toronto
BEGIN:DAYLIGHT
TZOFFSETFROM:-0500
TZOFFSETTO:-0400
TZNAME:EDT
DTSTART:20240310T070000
END:DAYLIGHT
BEGIN:STANDARD
TZOFFSETFROM:-0400
TZOFFSETTO:-0500
TZNAME:EST
DTSTART:20241103T060000
END:STANDARD
BEGIN:DAYLIGHT
TZOFFSETFROM:-0500
TZOFFSETTO:-0400
TZNAME:EDT
DTSTART:20250309T070000
END:DAYLIGHT
BEGIN:STANDARD
TZOFFSETFROM:-0400
TZOFFSETTO:-0500
TZNAME:EST
DTSTART:20251102T060000
END:STANDARD
BEGIN:DAYLIGHT
TZOFFSETFROM:-0500
TZOFFSETTO:-0400
TZNAME:EDT
DTSTART:20260308T070000
END:DAYLIGHT
BEGIN:STANDARD
TZOFFSETFROM:-0400
TZOFFSETTO:-0500
TZNAME:EST
DTSTART:20261101T060000
END:STANDARD
END:VTIMEZONE
BEGIN:VEVENT
DTSTART;TZID=America/Toronto:20250125T203000
DTEND;TZID=America/Toronto:20250126T003000
DTSTAMP:20260419T183833
CREATED:20250106T170646Z
LAST-MODIFIED:20250122T182533Z
UID:599-1737837000-1737851400@torontodancespot.com
SUMMARY:Milonga El Gato in Toronto
DESCRIPTION:Milonga El Gato in Toronto\nStep into an evening filled with the rhythm and passion of Argentine Tango. \nEnjoy dancing to traditional De Salon Tango\, Tango Vals\, and Tango Milongas in 3-tune tandas\, along with a few tandas featuring alternative music\, perfect for Tango Nuevo. \nBeginner-friendly\, fully air-conditioned\, and offering 2000 square feet of hardwood floors with high-quality sound equipment. \nA Milonga is a social dance event where you can dress up and immerse yourself in the enchanting world of Tango\, sharing the dance floor with fellow enthusiasts who share your love for what was once known as the 'Forbidden Dance.' \n\nMilonga El Gato in Toronto:\nSaturday\, January 25th\, 2025\n8:30pm – 0:30am – Milonga\nMusic by DJ Adam3 tune tandas.\n$20\nTea\, coffee\, as well as sweet and savory snacks provided.\n\nLocation:Bloor West VillageParish Hall of St Olave’s Anglican Church360 Windermere Ave. corner of Ostend Ave.50m south of Bloor St. W.4 min walk from Jane TTC\n\n\n\nIf you're eager to immerse yourself in the captivating world of tango\, our milonga events offer an ideal opportunity to enhance your dancing skills while connecting with fellow enthusiasts. These gatherings are designed to create a warm and welcoming atmosphere where dancers of all levels can come together to share their passion for Argentine tango. Whether you're a seasoned dancer or just starting out\, you’ll find a supportive community ready to help you grow. \nAt our milonga events\, you can experience the joy and elegance of tango firsthand. Each evening is filled with enchanting music and vibrant energy\, allowing participants to express themselves through dance. The dance floor becomes a space of creativity and connection\, fostering friendships that extend beyond the tango. \nJoining our milonga events not only elevates your dancing abilities but also enriches your life through the beauty of Argentine culture. Embrace the opportunity to meet like-minded individuals who share your enthusiasm\, and let the magic of tango inspire you. Come and be part of this extraordinary experience; we can't wait to welcome you to our next milonga! \n\nSee you there!Ania & Adam
URL:https://torontodancespot.com/event/milonga-el-gato-in-toronto-bloor-west-village/
LOCATION:St. Olave’s Anglican Church\, 360 Windermere Ave\, Toronto
ATTACH;FMTTYPE=image/jpeg:https://torontodancespot.com/wp-content/uploads/2025/01/milonga-in-Toronto.jpg
ORGANIZER;CN="Toronto Dance Spot":MAILTO:info@torontodancespot.com
END:VEVENT
END:VCALENDAR