BEGIN:VCALENDAR
VERSION:2.0
PRODID:-//Toronto Dance Spot - ECPv6.15.20//NONSGML v1.0//EN
CALSCALE:GREGORIAN
METHOD:PUBLISH
X-WR-CALNAME:Toronto Dance Spot
X-ORIGINAL-URL:https://torontodancespot.com
X-WR-CALDESC:Events for Toronto Dance Spot
REFRESH-INTERVAL;VALUE=DURATION:PT1H
X-Robots-Tag:noindex
X-PUBLISHED-TTL:PT1H
BEGIN:VTIMEZONE
TZID:America/Toronto
BEGIN:DAYLIGHT
TZOFFSETFROM:-0500
TZOFFSETTO:-0400
TZNAME:EDT
DTSTART:20230312T070000
END:DAYLIGHT
BEGIN:STANDARD
TZOFFSETFROM:-0400
TZOFFSETTO:-0500
TZNAME:EST
DTSTART:20231105T060000
END:STANDARD
BEGIN:DAYLIGHT
TZOFFSETFROM:-0500
TZOFFSETTO:-0400
TZNAME:EDT
DTSTART:20240310T070000
END:DAYLIGHT
BEGIN:STANDARD
TZOFFSETFROM:-0400
TZOFFSETTO:-0500
TZNAME:EST
DTSTART:20241103T060000
END:STANDARD
BEGIN:DAYLIGHT
TZOFFSETFROM:-0500
TZOFFSETTO:-0400
TZNAME:EDT
DTSTART:20250309T070000
END:DAYLIGHT
BEGIN:STANDARD
TZOFFSETFROM:-0400
TZOFFSETTO:-0500
TZNAME:EST
DTSTART:20251102T060000
END:STANDARD
END:VTIMEZONE
BEGIN:VEVENT
DTSTART;TZID=America/Toronto:20241004T200000
DTEND;TZID=America/Toronto:20241004T230000
DTSTAMP:20260420T001605
CREATED:20240930T023953Z
LAST-MODIFIED:20241015T190021Z
UID:526-1728072000-1728082800@torontodancespot.com
SUMMARY:Argentine Tango Class & 2h Guided Tango Practica on Friday
DESCRIPTION: 2h Guided Tango Practica with Tango Lesson \nJoin us for Toronto’s newest cyclical event:\nFriday Teacher-Supported Tango Practica plus a Lesson!\nEvery first and second-last Friday of the month. \nDetails:\nClass + Practica: 8pm - 11pm - $25 per person or $40 per couple \nPractica: 9pm - 11pm - $10 per person \nLocation: 360 Windermere Ave\, Toronto\, ON M6S 3L4 \nInstructor Supported Tango Practica:\nDuring the Practica\, Ania and Adam will be available to assist your practicing by helping troubleshoot any difficulties and answer any questions you might have. \n  \nWhat sets us apart: \n\nExcellent hardwood floor\,\nsuperb sound system\,\nfree parking for 20+ cars\,\n3min walk to subway station (Jane TTC).\n\nHere you can find information about our Thursday tango classes:  \nARGENTINE TANGO \n \n 
URL:https://torontodancespot.com/event/tango-practica/
LOCATION:St. Olave’s Anglican Church\, 360 Windermere Ave\, Toronto
ATTACH;FMTTYPE=image/png:https://torontodancespot.com/wp-content/uploads/2024/09/Toronto-Dance-Spot-2.png
ORGANIZER;CN="Toronto Dance Spot":MAILTO:info@torontodancespot.com
END:VEVENT
END:VCALENDAR