BEGIN:VCALENDAR
VERSION:2.0
PRODID:-//Toronto Dance Spot - ECPv6.15.20//NONSGML v1.0//EN
CALSCALE:GREGORIAN
METHOD:PUBLISH
X-WR-CALNAME:Toronto Dance Spot
X-ORIGINAL-URL:https://torontodancespot.com
X-WR-CALDESC:Events for Toronto Dance Spot
REFRESH-INTERVAL;VALUE=DURATION:PT1H
X-Robots-Tag:noindex
X-PUBLISHED-TTL:PT1H
BEGIN:VTIMEZONE
TZID:America/Toronto
BEGIN:DAYLIGHT
TZOFFSETFROM:-0500
TZOFFSETTO:-0400
TZNAME:EDT
DTSTART:20230312T070000
END:DAYLIGHT
BEGIN:STANDARD
TZOFFSETFROM:-0400
TZOFFSETTO:-0500
TZNAME:EST
DTSTART:20231105T060000
END:STANDARD
BEGIN:DAYLIGHT
TZOFFSETFROM:-0500
TZOFFSETTO:-0400
TZNAME:EDT
DTSTART:20240310T070000
END:DAYLIGHT
BEGIN:STANDARD
TZOFFSETFROM:-0400
TZOFFSETTO:-0500
TZNAME:EST
DTSTART:20241103T060000
END:STANDARD
BEGIN:DAYLIGHT
TZOFFSETFROM:-0500
TZOFFSETTO:-0400
TZNAME:EDT
DTSTART:20250309T070000
END:DAYLIGHT
BEGIN:STANDARD
TZOFFSETFROM:-0400
TZOFFSETTO:-0500
TZNAME:EST
DTSTART:20251102T060000
END:STANDARD
END:VTIMEZONE
BEGIN:VEVENT
DTSTART;TZID=America/Toronto:20240928T210000
DTEND;TZID=America/Toronto:20240929T010000
DTSTAMP:20260420T015223
CREATED:20240911T185037Z
LAST-MODIFIED:20240911T185037Z
UID:513-1727557200-1727571600@torontodancespot.com
SUMMARY:Milonga El Gato in Toronto
DESCRIPTION:Milonga El Gato in Toronto\nMilonga El Gato in Toronto\nStep into an evening filled with the rhythm and passion of Argentine Tango. Enjoy dancing to traditional De Salon Tango\, Tango Vals\, and Tango Milongas in 3-tune tandas\, along with a few tandas featuring alternative music\, perfect for Tango Nuevo. \nBeginner-friendly\, fully air-conditioned\, and offering 2000 square feet of hardwood floors with high-quality sound equipment. \nA Milonga is a social dance event where you can dress up and immerse yourself in the enchanting world of Tango\, dancing with fellow enthusiasts who share your love for what was once known as the 'Forbidden Dance.'
URL:https://torontodancespot.com/event/milonga_el_gato_in_toronto/
LOCATION:St. Olave’s Anglican Church\, 360 Windermere Ave\, Toronto
ATTACH;FMTTYPE=image/jpeg:https://torontodancespot.com/wp-content/uploads/2024/07/20230708_235608.jpg
ORGANIZER;CN="Toronto Dance Spot":MAILTO:info@torontodancespot.com
END:VEVENT
END:VCALENDAR